BEGIN:VCALENDAR
VERSION:2.0
PRODID:-//SP St. Margrethen - ECPv6.15.6//NONSGML v1.0//EN
CALSCALE:GREGORIAN
METHOD:PUBLISH
X-WR-CALNAME:SP St. Margrethen
X-ORIGINAL-URL:https://sp-stmargrethen.ch
X-WR-CALDESC:Veranstaltungen im SP St. Margrethen
REFRESH-INTERVAL;VALUE=DURATION:PT1H
X-Robots-Tag:noindex
X-PUBLISHED-TTL:PT1H
BEGIN:VTIMEZONE
TZID:Europe/Zurich
BEGIN:DAYLIGHT
TZOFFSETFROM:+0100
TZOFFSETTO:+0200
TZNAME:CEST
DTSTART:20240331T010000
END:DAYLIGHT
BEGIN:STANDARD
TZOFFSETFROM:+0200
TZOFFSETTO:+0100
TZNAME:CET
DTSTART:20241027T010000
END:STANDARD
BEGIN:DAYLIGHT
TZOFFSETFROM:+0100
TZOFFSETTO:+0200
TZNAME:CEST
DTSTART:20250330T010000
END:DAYLIGHT
BEGIN:STANDARD
TZOFFSETFROM:+0200
TZOFFSETTO:+0100
TZNAME:CET
DTSTART:20251026T010000
END:STANDARD
BEGIN:DAYLIGHT
TZOFFSETFROM:+0100
TZOFFSETTO:+0200
TZNAME:CEST
DTSTART:20260329T010000
END:DAYLIGHT
BEGIN:STANDARD
TZOFFSETFROM:+0200
TZOFFSETTO:+0100
TZNAME:CET
DTSTART:20261025T010000
END:STANDARD
END:VTIMEZONE
BEGIN:VEVENT
DTSTART;VALUE=DATE:20250928
DTEND;VALUE=DATE:20250929
DTSTAMP:20260423T172035
CREATED:20250715T103310Z
LAST-MODIFIED:20250816T071920Z
UID:88371-1759017600-1759103999@sp-stmargrethen.ch
SUMMARY:Ersatzwahl Gemeindepräsidium
DESCRIPTION:Am 28. September 2025 findet der erste Wahlgang für die Nachfolge des aktuellen Gemeindepräsidenten Reto Friedauer statt. \nFür die SP kandidiert Armin Hanselmann. Mehr zu unserem Kandidaten findet ihr auf seiner Webseite.
URL:https://sp-stmargrethen.ch/veranstaltung/ersatzwahl-gemeindepraesidium/
LOCATION:Gemeindehaus St. Margrethen\, Hauptstrasse 117\, St. Margrethen\, 9430
END:VEVENT
END:VCALENDAR